BEGIN:VCALENDAR
VERSION:2.0
PRODID:-//Sevilla Emprendedora - ECPv6.15.18//NONSGML v1.0//EN
CALSCALE:GREGORIAN
METHOD:PUBLISH
X-WR-CALNAME:Sevilla Emprendedora
X-ORIGINAL-URL:https://www.sevillaemprendedora.org
X-WR-CALDESC:Eventos para Sevilla Emprendedora
REFRESH-INTERVAL;VALUE=DURATION:PT1H
X-Robots-Tag:noindex
X-PUBLISHED-TTL:PT1H
BEGIN:VTIMEZONE
TZID:Europe/Madrid
BEGIN:DAYLIGHT
TZOFFSETFROM:+0100
TZOFFSETTO:+0200
TZNAME:CEST
DTSTART:20250330T010000
END:DAYLIGHT
BEGIN:STANDARD
TZOFFSETFROM:+0200
TZOFFSETTO:+0100
TZNAME:CET
DTSTART:20251026T010000
END:STANDARD
BEGIN:DAYLIGHT
TZOFFSETFROM:+0100
TZOFFSETTO:+0200
TZNAME:CEST
DTSTART:20260329T010000
END:DAYLIGHT
BEGIN:STANDARD
TZOFFSETFROM:+0200
TZOFFSETTO:+0100
TZNAME:CET
DTSTART:20261025T010000
END:STANDARD
BEGIN:DAYLIGHT
TZOFFSETFROM:+0100
TZOFFSETTO:+0200
TZNAME:CEST
DTSTART:20270328T010000
END:DAYLIGHT
BEGIN:STANDARD
TZOFFSETFROM:+0200
TZOFFSETTO:+0100
TZNAME:CET
DTSTART:20271031T010000
END:STANDARD
END:VTIMEZONE
BEGIN:VEVENT
DTSTART;TZID=Europe/Madrid:20260217T150000
DTEND;TZID=Europe/Madrid:20260217T163000
DTSTAMP:20260423T163737
CREATED:20260217T055229Z
LAST-MODIFIED:20260217T055229Z
UID:10372-1771340400-1771345800@www.sevillaemprendedora.org
SUMMARY:Club de Emprendimiento
DESCRIPTION:Reinicio de la actividad del Club de Emprendimiento en la Universidad Loyola. Tres emprendedores y fundadores de empresas van a exponer su trayectoria\, los retos que han superado\, y cómo están integrando la inteligencia artificial. Son Álvaro Olmo\, de Piki; Enrique Ruiz Galán\, de Wuolah\, y Juan Morón\, de AtenAI. La actividad tiene lugar en el Aula B1.01 del campus de la Universidad Loyola.
URL:https://www.sevillaemprendedora.org/evento/club-de-emprendimiento/
LOCATION:Universidad Loyola Andalucía\, Avenida de las Universidades\, 2\, Dos Hermanas\, Sevilla\, 41704\, España
CATEGORIES:Ecosistema Emprendedor
ATTACH;FMTTYPE=image/jpeg:https://www.sevillaemprendedora.org/wp-content/uploads/2026/02/17-Feb-Club-de-Emprendimiento-en-Loyola.jpeg
END:VEVENT
END:VCALENDAR