BEGIN:VCALENDAR
VERSION:2.0
PRODID:-//Sevilla Emprendedora - ECPv6.15.18//NONSGML v1.0//EN
CALSCALE:GREGORIAN
METHOD:PUBLISH
X-WR-CALNAME:Sevilla Emprendedora
X-ORIGINAL-URL:https://www.sevillaemprendedora.org
X-WR-CALDESC:Eventos para Sevilla Emprendedora
REFRESH-INTERVAL;VALUE=DURATION:PT1H
X-Robots-Tag:noindex
X-PUBLISHED-TTL:PT1H
BEGIN:VTIMEZONE
TZID:Europe/Madrid
BEGIN:DAYLIGHT
TZOFFSETFROM:+0100
TZOFFSETTO:+0200
TZNAME:CEST
DTSTART:20250330T010000
END:DAYLIGHT
BEGIN:STANDARD
TZOFFSETFROM:+0200
TZOFFSETTO:+0100
TZNAME:CET
DTSTART:20251026T010000
END:STANDARD
BEGIN:DAYLIGHT
TZOFFSETFROM:+0100
TZOFFSETTO:+0200
TZNAME:CEST
DTSTART:20260329T010000
END:DAYLIGHT
BEGIN:STANDARD
TZOFFSETFROM:+0200
TZOFFSETTO:+0100
TZNAME:CET
DTSTART:20261025T010000
END:STANDARD
BEGIN:DAYLIGHT
TZOFFSETFROM:+0100
TZOFFSETTO:+0200
TZNAME:CEST
DTSTART:20270328T010000
END:DAYLIGHT
BEGIN:STANDARD
TZOFFSETFROM:+0200
TZOFFSETTO:+0100
TZNAME:CET
DTSTART:20271031T010000
END:STANDARD
END:VTIMEZONE
BEGIN:VEVENT
DTSTART;TZID=Europe/Madrid:20260310T183000
DTEND;TZID=Europe/Madrid:20260310T203000
DTSTAMP:20260426T043142
CREATED:20260307T183708Z
LAST-MODIFIED:20260307T183708Z
UID:10679-1773167400-1773174600@www.sevillaemprendedora.org
SUMMARY:CMX Connect Sevilla - Comunidad y Negocio
DESCRIPTION:Primera actividad del capítulo de CMX Connect Sevilla reuniendo a tres proyectos destacados de toda España para pensar juntos sobre comunidad\, propósito y práctica. El evento contará con una presentación individual de cada proyecto\, seguida de una mesa de debate moderada por Jaime Aranda\, director del capítulo.\nPanelistas invitados:\nCarlos Álvarez\, fundador y community builder de La Comuna Digital. Espacio de conexión y aprendizaje para community builders\, proyectos y comunidades digitales que buscan construir relaciones auténticas y colaborativas. La Comuna Digital facilita el intercambio de conocimiento práctico\, recursos y estrategias para diseñar\, activar y sostener comunidades en distintos contextos digitales.\nPablo Mondragón\, fundador de Comunidad Kairos\, la primera comunidad dedicada íntegramente a profesionalizar las humanidades\, uniendo formación\, práctica\, debate disciplinar y recursos para el desarrollo profesional en este campo. Kairos articula actividades\, debates y experiencias para construir reconocimiento y valor profesional a una disciplina que enfrenta los desafíos del cambio cultural contemporáneo.\nJavi Moral\, CEO y cofundador de Terrormakers\, comunidad para amantes y profesionales del mundo del terror\, espectáculos y experiencias inmersivas donde conviven formación\, contenidos\, empleo y discusión alrededor de la industria del género. En Terrormakers se construye un espacio colectivo que combina aprendizaje especializado\, contenido temático y networking dentro de un sector muy concreto y apasionado.\n¿Qué se espera del encuentro? Conocer de primera mano cómo tres iniciativas muy diferentes abordan el reto de construir y sostener comunidades. Compartir reflexiones y herramientas aplicables a proyectos reales. Dialogar con perspectiva plural sobre qué significa hoy construir comunidades con propósito en entornos digitales y presenciales.
URL:https://www.sevillaemprendedora.org/evento/cmx-connect-sevilla-comunidad-y-negocio/
LOCATION:Online
CATEGORIES:Ecosistema Emprendedor
ATTACH;FMTTYPE=image/png:https://www.sevillaemprendedora.org/wp-content/uploads/2026/03/10-Marzo-CMX-Connect.png
END:VEVENT
END:VCALENDAR