BEGIN:VCALENDAR
VERSION:2.0
PRODID:-//Sevilla Emprendedora - ECPv6.15.18//NONSGML v1.0//EN
CALSCALE:GREGORIAN
METHOD:PUBLISH
X-WR-CALNAME:Sevilla Emprendedora
X-ORIGINAL-URL:https://www.sevillaemprendedora.org
X-WR-CALDESC:Eventos para Sevilla Emprendedora
REFRESH-INTERVAL;VALUE=DURATION:PT1H
X-Robots-Tag:noindex
X-PUBLISHED-TTL:PT1H
BEGIN:VTIMEZONE
TZID:Europe/Madrid
BEGIN:DAYLIGHT
TZOFFSETFROM:+0100
TZOFFSETTO:+0200
TZNAME:CEST
DTSTART:20250330T010000
END:DAYLIGHT
BEGIN:STANDARD
TZOFFSETFROM:+0200
TZOFFSETTO:+0100
TZNAME:CET
DTSTART:20251026T010000
END:STANDARD
BEGIN:DAYLIGHT
TZOFFSETFROM:+0100
TZOFFSETTO:+0200
TZNAME:CEST
DTSTART:20260329T010000
END:DAYLIGHT
BEGIN:STANDARD
TZOFFSETFROM:+0200
TZOFFSETTO:+0100
TZNAME:CET
DTSTART:20261025T010000
END:STANDARD
BEGIN:DAYLIGHT
TZOFFSETFROM:+0100
TZOFFSETTO:+0200
TZNAME:CEST
DTSTART:20270328T010000
END:DAYLIGHT
BEGIN:STANDARD
TZOFFSETFROM:+0200
TZOFFSETTO:+0100
TZNAME:CET
DTSTART:20271031T010000
END:STANDARD
END:VTIMEZONE
BEGIN:VEVENT
DTSTART;TZID=Europe/Madrid:20260518T090000
DTEND;TZID=Europe/Madrid:20260518T090000
DTSTAMP:20260422T232814
CREATED:20260226T102758Z
LAST-MODIFIED:20260313T083653Z
UID:10458-1779094800-1779094800@www.sevillaemprendedora.org
SUMMARY:CONEXIONES PROFESIONALES: ZOOM Y MEET - Sesión 1
DESCRIPTION:METODOLOGIA: La metodología estará basada en la exposición de conocimientos teóricos y recomendaciones para la creación la utilización de herramientas de videoconferencia. Se realizarán demostraciones paralelas a la explicación para ver el funcionamiento. \nOBJETIVOS:  \n«• Conocer qué es el teletrabajo y herramientas correctas de comunicación  \n• Saber cuáles son las ventajas de la comunicación en el teletrabajo.  \n• Conocer cómo funcionan las herramientas de Google Meet y Zoom.  \n• Saber planificar una reunión de manera virtual. « \nCONTENIDOS: \n• Qué es el teletrabajo y cómo comunicarse correctamente.  \n• Ventajas de la comunicación en el teletrabajo  \n• ZOOM y GOOGLE MET: \n• Cómo darse de alta en Zoom y en Google Met  \n• Dentro de una reunión: salas.  \n• Programar una reunión. Calendarización de reuniones. \n • Grabar una reunión.  \n• Acceder a una reunión como asistente.   \n• Funcionalidad Premium. \nInscribirme a esta formación
URL:https://www.sevillaemprendedora.org/evento/conexiones-profesionales-zoom-y-meet-sesion-1-2/
CATEGORIES:Formación#SevillaEmprendedora
ATTACH;FMTTYPE=image/png:https://www.sevillaemprendedora.org/wp-content/uploads/2025/09/CONEXIONES20PROFESIONALES_20ZOOM20Y20MEET-huukRE.png
END:VEVENT
END:VCALENDAR