BEGIN:VCALENDAR
VERSION:2.0
PRODID:-//Sevilla Emprendedora - ECPv6.15.18//NONSGML v1.0//EN
CALSCALE:GREGORIAN
METHOD:PUBLISH
X-WR-CALNAME:Sevilla Emprendedora
X-ORIGINAL-URL:https://www.sevillaemprendedora.org
X-WR-CALDESC:Eventos para Sevilla Emprendedora
REFRESH-INTERVAL;VALUE=DURATION:PT1H
X-Robots-Tag:noindex
X-PUBLISHED-TTL:PT1H
BEGIN:VTIMEZONE
TZID:Europe/Madrid
BEGIN:DAYLIGHT
TZOFFSETFROM:+0100
TZOFFSETTO:+0200
TZNAME:CEST
DTSTART:20250330T010000
END:DAYLIGHT
BEGIN:STANDARD
TZOFFSETFROM:+0200
TZOFFSETTO:+0100
TZNAME:CET
DTSTART:20251026T010000
END:STANDARD
BEGIN:DAYLIGHT
TZOFFSETFROM:+0100
TZOFFSETTO:+0200
TZNAME:CEST
DTSTART:20260329T010000
END:DAYLIGHT
BEGIN:STANDARD
TZOFFSETFROM:+0200
TZOFFSETTO:+0100
TZNAME:CET
DTSTART:20261025T010000
END:STANDARD
BEGIN:DAYLIGHT
TZOFFSETFROM:+0100
TZOFFSETTO:+0200
TZNAME:CEST
DTSTART:20270328T010000
END:DAYLIGHT
BEGIN:STANDARD
TZOFFSETFROM:+0200
TZOFFSETTO:+0100
TZNAME:CET
DTSTART:20271031T010000
END:STANDARD
END:VTIMEZONE
BEGIN:VEVENT
DTSTART;TZID=Europe/Madrid:20260513T160000
DTEND;TZID=Europe/Madrid:20260513T160000
DTSTAMP:20260423T010049
CREATED:20260226T102711Z
LAST-MODIFIED:20260313T083545Z
UID:10451-1778688000-1778688000@www.sevillaemprendedora.org
SUMMARY:CONVIERTE TUS ERRORES EN ÉXITOS - Sesión 1
DESCRIPTION:METODOLOGIA: Metodología  activa\,  dinámica  y  participativa  que  permita  a  los asistentes  a  la sesión integrar y aplicar los conocimientos adquiridos a su realidad. \nOBJETIVOS: »  \nPromocionar la aceptación  ante el  fracaso  y proporcionar  herramientas para dar una respuesta a esta situación que nos haga sentir satisfechos. \nConcienciar sobre la necesidad de prepararse para anticiparse al fracaso y aceptar el fracaso cuando se produzca. \n•  Desarrollar la inteligencia emocional para aprender que lo importante no es fracasar si no  el tiempo que se tarda en recuperarse.» \nCONTENIDOS: \n«•  Éxito y fracaso en nuestra sociedad: una visión sobre la realidad.  \n•    ¿Qué haces cuando fracasas en lo que emprendes? Claves para comprender nuestra reacción ante el fracaso. Diálogo interno y emociones. \n•  Aprender a vivir con el fracaso: trabajando nuestra resiliencia. « \n \n \nInscribirme a esta formación
URL:https://www.sevillaemprendedora.org/evento/convierte-tus-errores-en-exitos-sesion-1-2/
CATEGORIES:Formación#SevillaEmprendedora
ATTACH;FMTTYPE=image/png:https://www.sevillaemprendedora.org/wp-content/uploads/2025/08/CC393MO20CONVERTIR20LOS20ERRORES20EN20C389XITOS-gAWK9B.png
END:VEVENT
END:VCALENDAR