BEGIN:VCALENDAR
VERSION:2.0
PRODID:-//Sevilla Emprendedora - ECPv6.15.18//NONSGML v1.0//EN
CALSCALE:GREGORIAN
METHOD:PUBLISH
X-WR-CALNAME:Sevilla Emprendedora
X-ORIGINAL-URL:https://www.sevillaemprendedora.org
X-WR-CALDESC:Eventos para Sevilla Emprendedora
REFRESH-INTERVAL;VALUE=DURATION:PT1H
X-Robots-Tag:noindex
X-PUBLISHED-TTL:PT1H
BEGIN:VTIMEZONE
TZID:Europe/Madrid
BEGIN:DAYLIGHT
TZOFFSETFROM:+0100
TZOFFSETTO:+0200
TZNAME:CEST
DTSTART:20250330T010000
END:DAYLIGHT
BEGIN:STANDARD
TZOFFSETFROM:+0200
TZOFFSETTO:+0100
TZNAME:CET
DTSTART:20251026T010000
END:STANDARD
BEGIN:DAYLIGHT
TZOFFSETFROM:+0100
TZOFFSETTO:+0200
TZNAME:CEST
DTSTART:20260329T010000
END:DAYLIGHT
BEGIN:STANDARD
TZOFFSETFROM:+0200
TZOFFSETTO:+0100
TZNAME:CET
DTSTART:20261025T010000
END:STANDARD
BEGIN:DAYLIGHT
TZOFFSETFROM:+0100
TZOFFSETTO:+0200
TZNAME:CEST
DTSTART:20270328T010000
END:DAYLIGHT
BEGIN:STANDARD
TZOFFSETFROM:+0200
TZOFFSETTO:+0100
TZNAME:CET
DTSTART:20271031T010000
END:STANDARD
END:VTIMEZONE
BEGIN:VEVENT
DTSTART;TZID=Europe/Madrid:20260310T193000
DTEND;TZID=Europe/Madrid:20260310T210000
DTSTAMP:20260419T193723
CREATED:20260304T055118Z
LAST-MODIFIED:20260304T055118Z
UID:10631-1773171000-1773176400@www.sevillaemprendedora.org
SUMMARY:Empresas y su gestión\, experiencias y reflexiones desde un prisma andaluz
DESCRIPTION:El Observatorio Económico de Andalucía ofrece la sesión sobre Empresas y su gestión\, experiencias y reflexiones desde un prisma andaluz; en la que intervendrá Antonio Fornieles\, presidente de Pegasus Aero Group y consejero independiente\, que tendrá lugar el martes 10 de marzo a las 19:30 en la sede de la Cámara de Comercio de Sevilla y que será retransmitida también por streaming.
URL:https://www.sevillaemprendedora.org/evento/empresas-y-su-gestion-experiencias-y-reflexiones-desde-un-prisma-andaluz/
LOCATION:Cámara de Comercio de Sevilla\, Plaza de la Contratación\, 8\, Sevilla\, Sevilla\, 41001\, España
CATEGORIES:Ecosistema Emprendedor
ATTACH;FMTTYPE=image/png:https://www.sevillaemprendedora.org/wp-content/uploads/2026/03/10-Marzo-OEA-con-Fornieles.png
END:VEVENT
END:VCALENDAR