BEGIN:VCALENDAR
VERSION:2.0
PRODID:-//Sevilla Emprendedora - ECPv6.15.18//NONSGML v1.0//EN
CALSCALE:GREGORIAN
METHOD:PUBLISH
X-WR-CALNAME:Sevilla Emprendedora
X-ORIGINAL-URL:https://www.sevillaemprendedora.org
X-WR-CALDESC:Eventos para Sevilla Emprendedora
REFRESH-INTERVAL;VALUE=DURATION:PT1H
X-Robots-Tag:noindex
X-PUBLISHED-TTL:PT1H
BEGIN:VTIMEZONE
TZID:Europe/Madrid
BEGIN:DAYLIGHT
TZOFFSETFROM:+0100
TZOFFSETTO:+0200
TZNAME:CEST
DTSTART:20250330T010000
END:DAYLIGHT
BEGIN:STANDARD
TZOFFSETFROM:+0200
TZOFFSETTO:+0100
TZNAME:CET
DTSTART:20251026T010000
END:STANDARD
BEGIN:DAYLIGHT
TZOFFSETFROM:+0100
TZOFFSETTO:+0200
TZNAME:CEST
DTSTART:20260329T010000
END:DAYLIGHT
BEGIN:STANDARD
TZOFFSETFROM:+0200
TZOFFSETTO:+0100
TZNAME:CET
DTSTART:20261025T010000
END:STANDARD
BEGIN:DAYLIGHT
TZOFFSETFROM:+0100
TZOFFSETTO:+0200
TZNAME:CEST
DTSTART:20270328T010000
END:DAYLIGHT
BEGIN:STANDARD
TZOFFSETFROM:+0200
TZOFFSETTO:+0100
TZNAME:CET
DTSTART:20271031T010000
END:STANDARD
END:VTIMEZONE
BEGIN:VEVENT
DTSTART;TZID=Europe/Madrid:20260610T160000
DTEND;TZID=Europe/Madrid:20260610T160000
DTSTAMP:20260423T150010
CREATED:20260423T075523Z
LAST-MODIFIED:20260423T075523Z
UID:11240-1781107200-1781107200@www.sevillaemprendedora.org
SUMMARY:Estrategias de Marketing creativo y Social - Sesión 2
DESCRIPTION:METODOLOGIA: Metodología activa-participativa\, caracterizada por un acompañamiento basado en el aprendizaje (coaching learning) y la utilización de herramientas diversas que promueven  la  participación  y  el  debate  en  grupo.  Se  trabaja  con  ejemplos  prácticos  que contextualizan el proceso de aprendizaje. Se fomenta la utilización de casos de discusión participativa\, modelos de simulación y otras técnicas de grupo creativas. \nOBJETIVOS: \n  Diseñar campañas de difusión dirigidas a la generación del milenio (millennials)\, estableciendo criterios de identificación y pautas de comportamiento.  \n  Elaborar  estrategias  y  técnicas  de  mercadotecnia  basadas  en  la  creatividad  y  el ingenio.  \n  Profundizar en la creación de estrategias publicitarias analógicas y digitales  con una narración e historia guionizadas.  \n  Conocer los principios de los procesos publicitarios basados en la cultura\, el arte\, la tradición y los memes informativos.  \n \n\nCONTENIDOS:\nMarketing Millennial \nViralidad \nMarketing de Guerrilla \nTransmedia Storytelling \nNichos y Microrredes. \n\nInscribirme a esta formación
URL:https://www.sevillaemprendedora.org/evento/estrategias-de-marketing-creativo-y-social-sesion-2/
CATEGORIES:Formación#SevillaEmprendedora
ATTACH;FMTTYPE=image/jpeg:https://www.sevillaemprendedora.org/wp-content/uploads/2026/04/Estrategias20de20Marketing20creativo20y20social-dNeThS.jpg
END:VEVENT
END:VCALENDAR