BEGIN:VCALENDAR
VERSION:2.0
PRODID:-//Sevilla Emprendedora - ECPv6.15.18//NONSGML v1.0//EN
CALSCALE:GREGORIAN
METHOD:PUBLISH
X-WR-CALNAME:Sevilla Emprendedora
X-ORIGINAL-URL:https://www.sevillaemprendedora.org
X-WR-CALDESC:Eventos para Sevilla Emprendedora
REFRESH-INTERVAL;VALUE=DURATION:PT1H
X-Robots-Tag:noindex
X-PUBLISHED-TTL:PT1H
BEGIN:VTIMEZONE
TZID:Europe/Madrid
BEGIN:DAYLIGHT
TZOFFSETFROM:+0100
TZOFFSETTO:+0200
TZNAME:CEST
DTSTART:20250330T010000
END:DAYLIGHT
BEGIN:STANDARD
TZOFFSETFROM:+0200
TZOFFSETTO:+0100
TZNAME:CET
DTSTART:20251026T010000
END:STANDARD
BEGIN:DAYLIGHT
TZOFFSETFROM:+0100
TZOFFSETTO:+0200
TZNAME:CEST
DTSTART:20260329T010000
END:DAYLIGHT
BEGIN:STANDARD
TZOFFSETFROM:+0200
TZOFFSETTO:+0100
TZNAME:CET
DTSTART:20261025T010000
END:STANDARD
BEGIN:DAYLIGHT
TZOFFSETFROM:+0100
TZOFFSETTO:+0200
TZNAME:CEST
DTSTART:20270328T010000
END:DAYLIGHT
BEGIN:STANDARD
TZOFFSETFROM:+0200
TZOFFSETTO:+0100
TZNAME:CET
DTSTART:20271031T010000
END:STANDARD
END:VTIMEZONE
BEGIN:VEVENT
DTSTART;TZID=Europe/Madrid:20260615T160000
DTEND;TZID=Europe/Madrid:20260615T160000
DTSTAMP:20260423T163519
CREATED:20260423T075737Z
LAST-MODIFIED:20260423T075737Z
UID:11250-1781539200-1781539200@www.sevillaemprendedora.org
SUMMARY:Gestión de Tesorería\, la clave de la supervivencia empresarial - Sesión 1
DESCRIPTION:METODOLOGÍA: Metodología práctica y participativa.  \nOBJETIVOS: \n\nAnalizar los conceptos y términos de los flujos monetarios de un negocio para poder gestionar la liquidez del mismo. \nApoyar el proyecto y/o desarrollo de un negocio o iniciativa empresarial\, evaluando las necesidades realistas de financiación y liquidez según las características del negocio y los condicionamientos específicos del entorno socioeconómico. \nAplicar herramientas y métodos de control sobre la tesorería de la empresa y conocer opciones que optimicen los excedentes de liquidez. \n\nCONTENIDOS: \n1. Instrumento de cobro y pago •  El efectivo. Operaciones superiores a 2.500 €. •  El cheque y pagaré a cuenta corriente. •  Letras y pagarés cambiarios. •  Tarjetas bancarias: crédito\, débito y monedero electrónico. •  Adeudos por domiciliaciones. •  Pago certificado o confirmado.  \n2. La previsión de tesorería •  Concepto. Aplicación en caja y/o cuenta bancaria. •  Criterio del dinero líquido: saldo inicial\, cobros y pagos. •  Cobros o entradas. Crédito de clientes. •  Pagos o salidas. Crédito con proveedores/acreedores y administraciones. •  Supuesto práctico en hoja de cálculo\, simulación emprendedora.  \n3. El control de tesorería •  Comprobación de cobros-pagos previstos reales. Documentación bancaria. •  Diferencias e incidencias en los cobros\, cumplimiento de plazos. •  Control de entradas-salidas en efectivo\, partes de caja. •  Excedentes de tesorería y situaciones de iliquidez. •  Libro de banco y caja.  \n4. Utilidades en la gestión en tesorería •  Aplicaciones bancarias online. Condiciones bancarias. •  Domiciliaciones de recibos y transferencias. •  Ventas por datáfono y gestión de pagos por tarjeta. •  Control de saldo mínimo y devoluciones por descubierto.  \n \nInscribirme a esta formación
URL:https://www.sevillaemprendedora.org/evento/gestion-de-tesoreria-la-clave-de-la-supervivencia-empresarial-sesion-1/
CATEGORIES:Formación#SevillaEmprendedora
ATTACH;FMTTYPE=image/jpeg:https://www.sevillaemprendedora.org/wp-content/uploads/2026/04/GestiC3B3n20de20TesorerC3ADa20la20clave20de20la20supervivencia20empresarial-DklBp4.jpg
END:VEVENT
END:VCALENDAR