BEGIN:VCALENDAR
VERSION:2.0
PRODID:-//Sevilla Emprendedora - ECPv6.15.18//NONSGML v1.0//EN
CALSCALE:GREGORIAN
METHOD:PUBLISH
X-WR-CALNAME:Sevilla Emprendedora
X-ORIGINAL-URL:https://www.sevillaemprendedora.org
X-WR-CALDESC:Eventos para Sevilla Emprendedora
REFRESH-INTERVAL;VALUE=DURATION:PT1H
X-Robots-Tag:noindex
X-PUBLISHED-TTL:PT1H
BEGIN:VTIMEZONE
TZID:Europe/Madrid
BEGIN:DAYLIGHT
TZOFFSETFROM:+0100
TZOFFSETTO:+0200
TZNAME:CEST
DTSTART:20250330T010000
END:DAYLIGHT
BEGIN:STANDARD
TZOFFSETFROM:+0200
TZOFFSETTO:+0100
TZNAME:CET
DTSTART:20251026T010000
END:STANDARD
BEGIN:DAYLIGHT
TZOFFSETFROM:+0100
TZOFFSETTO:+0200
TZNAME:CEST
DTSTART:20260329T010000
END:DAYLIGHT
BEGIN:STANDARD
TZOFFSETFROM:+0200
TZOFFSETTO:+0100
TZNAME:CET
DTSTART:20261025T010000
END:STANDARD
BEGIN:DAYLIGHT
TZOFFSETFROM:+0100
TZOFFSETTO:+0200
TZNAME:CEST
DTSTART:20270328T010000
END:DAYLIGHT
BEGIN:STANDARD
TZOFFSETFROM:+0200
TZOFFSETTO:+0100
TZNAME:CET
DTSTART:20271031T010000
END:STANDARD
END:VTIMEZONE
BEGIN:VEVENT
DTSTART;TZID=Europe/Madrid:20260428T093000
DTEND;TZID=Europe/Madrid:20260428T153000
DTSTAMP:20260426T060650
CREATED:20260425T181050Z
LAST-MODIFIED:20260425T181050Z
UID:11305-1777368600-1777390200@www.sevillaemprendedora.org
SUMMARY:Jornada Agropyme Avanza
DESCRIPTION:Jornada Transnacional de Cierre Agropyme Avanza Andalucía-Algarve-Alentejo\, encuentro orientado a impulsar la innovación\, la digitalización y el crecimiento de las pymes agroalimentarias. Reuniendo a empresas\, profesionales e instituciones de las tres regiones. Ofrecerá un análisis detallado de los resultados obtenidos por el Sistema Avanzapyme en áreas críticas para el sector. Además\, se presentará la Guía AvanzaPyme para la Innovación\, Digitalización y Sostenibilidad de las Pymes de la Eurorregión Andalucía-Algarve-Alentejo\, y los resultados alcanzados por los servicios de innovación\, digitalización\, sostenibilidad y rentabilidad del proyecto.\nDurante la jornada hay oportunidad de dar visibilidad a la empresa\, ya que puedes exponer tus productos\, además de generar contactos de valor mediante espacios de networking con otros profesionales y entidades del sector. Incluyendo almuerzo cóctel.\nEl programa incluye ponencias prácticas de gran interés sobre inteligencia artificial aplicada al sector agroalimentario\, financiación para pymes\, y comercialización e internacionalización\, impartidas por profesionales de referencia como Daniel Escribano (director de la Oficina de IA del Grupo MAS y director de la Oficina de IA de las Cooperativas Agroalimentarias de Andalucía)\, Antonio Higueros (Garántia SGR)\, Yolanda Sanz (GDR Campiña de Jerez) y Luís Miguel Sánchez (Covirán). Además\, casos reales de empresas de Andalucía\, Algarve y Alentejo que compartirán su\nexperiencia.\nAgropyme Avanza AAA es un proyecto de cooperación transfronteriza en el que participan entidades como la Fundación Andanatura\, Andalucía Emprende\, la Universidade do Algarve\, la Agência de Desenvolvimento Regional do Alentejo (Adral)\, NERA (Associação Empresarial da Região do Algarve)\, y NERE (Núcleo Empresarial da Região de Évora). Está cofinanciado en un 75% por la Unión Europea a través del Programa de Cooperación Transfronteriza España-Portugal (POCTEP 2021-2027).
URL:https://www.sevillaemprendedora.org/evento/jornada-agropyme-avanza/
LOCATION:Hacienda Quinto\, Calle Viena\, Sevilla (Montequinto)\, 41089
CATEGORIES:Ecosistema Emprendedor
ATTACH;FMTTYPE=image/png:https://www.sevillaemprendedora.org/wp-content/uploads/2026/04/28-Abril-Jornada-Transnacional.png
END:VEVENT
END:VCALENDAR