BEGIN:VCALENDAR
VERSION:2.0
PRODID:-//Sevilla Emprendedora - ECPv6.15.18//NONSGML v1.0//EN
CALSCALE:GREGORIAN
METHOD:PUBLISH
X-WR-CALNAME:Sevilla Emprendedora
X-ORIGINAL-URL:https://www.sevillaemprendedora.org
X-WR-CALDESC:Eventos para Sevilla Emprendedora
REFRESH-INTERVAL;VALUE=DURATION:PT1H
X-Robots-Tag:noindex
X-PUBLISHED-TTL:PT1H
BEGIN:VTIMEZONE
TZID:Europe/Madrid
BEGIN:DAYLIGHT
TZOFFSETFROM:+0100
TZOFFSETTO:+0200
TZNAME:CEST
DTSTART:20250330T010000
END:DAYLIGHT
BEGIN:STANDARD
TZOFFSETFROM:+0200
TZOFFSETTO:+0100
TZNAME:CET
DTSTART:20251026T010000
END:STANDARD
BEGIN:DAYLIGHT
TZOFFSETFROM:+0100
TZOFFSETTO:+0200
TZNAME:CEST
DTSTART:20260329T010000
END:DAYLIGHT
BEGIN:STANDARD
TZOFFSETFROM:+0200
TZOFFSETTO:+0100
TZNAME:CET
DTSTART:20261025T010000
END:STANDARD
BEGIN:DAYLIGHT
TZOFFSETFROM:+0100
TZOFFSETTO:+0200
TZNAME:CEST
DTSTART:20270328T010000
END:DAYLIGHT
BEGIN:STANDARD
TZOFFSETFROM:+0200
TZOFFSETTO:+0100
TZNAME:CET
DTSTART:20271031T010000
END:STANDARD
END:VTIMEZONE
BEGIN:VEVENT
DTSTART;TZID=Europe/Madrid:20260312T093000
DTEND;TZID=Europe/Madrid:20260312T120000
DTSTAMP:20260419T175524
CREATED:20260228T192026Z
LAST-MODIFIED:20260228T192026Z
UID:10511-1773307800-1773316800@www.sevillaemprendedora.org
SUMMARY:Jornada ¿Conoces mi empresa?
DESCRIPTION:Jornada empresarial en la provincia de Sevilla\, bajo el título: ¿Conoces mi Empresa?\, organizada por la Confederación Empresarial de Sevilla junto a Prodetur y con la colaboración del Ayuntamiento de La Rinconada y Rinconada Global\, Asociación de Empresarios y Comerciantes.\nEsta jornada está diseñada para fomentar la interacción y colaboración entre las empresas de la provincia de Sevilla\, para que cada empresa participante pueda presentar y destacar sus servicios\, productos y valores distintivos.\nEl propósito principal de esta jornada es abrir un espacio donde las empresas de la provincia de Sevilla puedan conectarse\, colaborar y\, sobre todo\, darse a conocer. Visibilizar el talento y la innovación que abundan en la provincia.\nCada empresa participante tendrá la oportunidad de presentarse durante dos minutos. Este tiempo puede ser utilizado de manera creativa\, ya sea a través de presentaciones de PowerPoint\, videos empresariales\, charlas inspiradoras o cualquier otro medio que consideren efectivo para transmitir la esencia y los valores de su empresa. Después la conversación sigue con un café networking.
URL:https://www.sevillaemprendedora.org/evento/jornada-conoces-mi-empresa-2/
LOCATION:Centro Cultural de la Villa de La Rinconada\, Calle Vereda de Chapatales\, s/n\, La Rinconada\, Sevilla
CATEGORIES:Ecosistema Emprendedor
ATTACH;FMTTYPE=image/jpeg:https://www.sevillaemprendedora.org/wp-content/uploads/2026/02/12-marzo-¿Conoces-mi-empresa_.jpg
END:VEVENT
END:VCALENDAR