BEGIN:VCALENDAR
VERSION:2.0
PRODID:-//Sevilla Emprendedora - ECPv6.15.18//NONSGML v1.0//EN
CALSCALE:GREGORIAN
METHOD:PUBLISH
X-WR-CALNAME:Sevilla Emprendedora
X-ORIGINAL-URL:https://www.sevillaemprendedora.org
X-WR-CALDESC:Eventos para Sevilla Emprendedora
REFRESH-INTERVAL;VALUE=DURATION:PT1H
X-Robots-Tag:noindex
X-PUBLISHED-TTL:PT1H
BEGIN:VTIMEZONE
TZID:Europe/Madrid
BEGIN:DAYLIGHT
TZOFFSETFROM:+0100
TZOFFSETTO:+0200
TZNAME:CEST
DTSTART:20250330T010000
END:DAYLIGHT
BEGIN:STANDARD
TZOFFSETFROM:+0200
TZOFFSETTO:+0100
TZNAME:CET
DTSTART:20251026T010000
END:STANDARD
BEGIN:DAYLIGHT
TZOFFSETFROM:+0100
TZOFFSETTO:+0200
TZNAME:CEST
DTSTART:20260329T010000
END:DAYLIGHT
BEGIN:STANDARD
TZOFFSETFROM:+0200
TZOFFSETTO:+0100
TZNAME:CET
DTSTART:20261025T010000
END:STANDARD
BEGIN:DAYLIGHT
TZOFFSETFROM:+0100
TZOFFSETTO:+0200
TZNAME:CEST
DTSTART:20270328T010000
END:DAYLIGHT
BEGIN:STANDARD
TZOFFSETFROM:+0200
TZOFFSETTO:+0100
TZNAME:CET
DTSTART:20271031T010000
END:STANDARD
END:VTIMEZONE
BEGIN:VEVENT
DTSTART;TZID=Europe/Madrid:20260406T163000
DTEND;TZID=Europe/Madrid:20260406T193000
DTSTAMP:20260419T151437
CREATED:20260211T102248Z
LAST-MODIFIED:20260223T054507Z
UID:10282-1775493000-1775503800@www.sevillaemprendedora.org
SUMMARY:Los lunes de Matchmaking (Presencial)
DESCRIPTION:Lunes de matchmaking \n\n\nConecta\, colabora y crece \nEn esta ocasión\, el lugar de encuentro es el Coworking de la EOI Andalucía\, que está en la Calle Leonardo da Vinci\, 12\, en Cartuja\, dentro de Sevilla TechPark. Será de 16:30 a 19:30. \n\n\n¿Tienes una idea de negocio o una empresa en marcha? ¿Te interesa encontrar sinergias\, aliados\, inspiración o nuevos caminos de crecimiento? Los Lunes de Matchmaking son sesiones dinámicas de networking y cooperación empresarial en las que participantes del programa y agentes externos se dan cita para compartir proyectos\, explorar alianzas y generar oportunidades reales de colaboración. \n\n\nDirigido a Personas emprendedoras del programa\, Empresas en activo que buscan nuevos contactos\, proveedores\, colaboraciones o inspiración y Agentes del ecosistema emprendedor\, entidades del entorno y proyectos afines. \n\n\n CONTENIDO: \n\n\n\nBienvenida y apertura del encuentro. Presentación del objetivo y dinámica. Presentaciones exprés (Elevator Pitch 1 min por participante voluntario/a).\n\n\n\n\nDinámica de conexión: creación de grupos según intereses comunes o retos compartidos.\n\n\n\n\nNetworking libre con espacio de encuentro por sectores o temáticas.\n\n\n\n\nRonda de conexiones: espacio guiado para explorar sinergias y propuestas de colaboración.\n\n\n\n\nCierre y compromisos: breve resumen y seguimiento a acuerdos generados.\n\n\n\n ¿Por qué asistir? \n\n\nConocer proyectos con intereses comunes. \n\n\nGenerar alianzas para comercialización\, desarrollo conjunto o internacionalización. \n\n\nCompartir experiencias\, contactos y estrategias. \n\n\nVisibilizar tu propuesta y posicionarla en el entorno empresarial. \n\n\n METODOLOGÍA:   \n\n\nLa metodología estará basada en un enfoque dinámico\, práctico y vivencial\, que combina herramientas de: Networking dirigido\, trabajo colaborativo\, espacios de conexión libre y acompañamiento activo \n\nInscribirme a esta formación \n 
URL:https://www.sevillaemprendedora.org/evento/los-lunes-de-matchmaking-presencial-14/
LOCATION:Coworking de la Escuela de Organización Industrial (EOI) en Andalucía\, Calle Leonardo da Vinci\, 12\, Sevilla\, 41092
CATEGORIES:Consultoría#SevillaEmprendedora
ATTACH;FMTTYPE=image/png:https://www.sevillaemprendedora.org/wp-content/uploads/2025/09/2025_-_activa_tu_proyecto_con_sevilla_emprendedora_2_1-lBB1VF.png
END:VEVENT
END:VCALENDAR