BEGIN:VCALENDAR
VERSION:2.0
PRODID:-//Sevilla Emprendedora - ECPv6.15.18//NONSGML v1.0//EN
CALSCALE:GREGORIAN
METHOD:PUBLISH
X-WR-CALNAME:Sevilla Emprendedora
X-ORIGINAL-URL:https://www.sevillaemprendedora.org
X-WR-CALDESC:Eventos para Sevilla Emprendedora
REFRESH-INTERVAL;VALUE=DURATION:PT1H
X-Robots-Tag:noindex
X-PUBLISHED-TTL:PT1H
BEGIN:VTIMEZONE
TZID:Europe/Madrid
BEGIN:DAYLIGHT
TZOFFSETFROM:+0100
TZOFFSETTO:+0200
TZNAME:CEST
DTSTART:20250330T010000
END:DAYLIGHT
BEGIN:STANDARD
TZOFFSETFROM:+0200
TZOFFSETTO:+0100
TZNAME:CET
DTSTART:20251026T010000
END:STANDARD
BEGIN:DAYLIGHT
TZOFFSETFROM:+0100
TZOFFSETTO:+0200
TZNAME:CEST
DTSTART:20260329T010000
END:DAYLIGHT
BEGIN:STANDARD
TZOFFSETFROM:+0200
TZOFFSETTO:+0100
TZNAME:CET
DTSTART:20261025T010000
END:STANDARD
BEGIN:DAYLIGHT
TZOFFSETFROM:+0100
TZOFFSETTO:+0200
TZNAME:CEST
DTSTART:20270328T010000
END:DAYLIGHT
BEGIN:STANDARD
TZOFFSETFROM:+0200
TZOFFSETTO:+0100
TZNAME:CET
DTSTART:20271031T010000
END:STANDARD
END:VTIMEZONE
BEGIN:VEVENT
DTSTART;TZID=Europe/Madrid:20260429T163000
DTEND;TZID=Europe/Madrid:20260429T193000
DTSTAMP:20260426T061401
CREATED:20260425T181455Z
LAST-MODIFIED:20260425T181455Z
UID:11309-1777480200-1777491000@www.sevillaemprendedora.org
SUMMARY:Los riesgos psicosociales en la nueva era digital: nuevas tecnologías y formas de trabajo
DESCRIPTION:Sesión formativa online para comprender la naturaleza\, impacto y gestión de los riesgos psicosociales en el entorno laboral. Para poder identificarlos\, evaluarlos y abordarlos eficazmente en distintos contextos organizativos.\nIntroducción a los riesgos psicosociales. La transversalidad de los riesgos psicosociales. Consecuencias y contexto de los riesgos psicosociales. Cómo abordar los riesgos psicosociales: identificación\, evaluación e intervención. Modelos de trabajo y formas de gestionar los riesgos psicosociales. Teletrabajo y trabajo a distancia. El tecnoestrés. Aproximación práctica: evolución de los riesgos psicosociales y su impacto en el ámbito jurídico-laboral. La ponente es Carolina Llorente Ruiz\, Asociada Senior del Departamento Laboral de Deloitte Legal.
URL:https://www.sevillaemprendedora.org/evento/los-riesgos-psicosociales-en-la-nueva-era-digital-nuevas-tecnologias-y-formas-de-trabajo/
LOCATION:Online
CATEGORIES:Ecosistema Emprendedor
ATTACH;FMTTYPE=image/png:https://www.sevillaemprendedora.org/wp-content/uploads/2026/04/29-Abril-Riesgos-psicosociales.png
END:VEVENT
END:VCALENDAR