BEGIN:VCALENDAR
VERSION:2.0
PRODID:-//Sevilla Emprendedora - ECPv6.15.18//NONSGML v1.0//EN
CALSCALE:GREGORIAN
METHOD:PUBLISH
X-WR-CALNAME:Sevilla Emprendedora
X-ORIGINAL-URL:https://www.sevillaemprendedora.org
X-WR-CALDESC:Eventos para Sevilla Emprendedora
REFRESH-INTERVAL;VALUE=DURATION:PT1H
X-Robots-Tag:noindex
X-PUBLISHED-TTL:PT1H
BEGIN:VTIMEZONE
TZID:Europe/Madrid
BEGIN:DAYLIGHT
TZOFFSETFROM:+0100
TZOFFSETTO:+0200
TZNAME:CEST
DTSTART:20250330T010000
END:DAYLIGHT
BEGIN:STANDARD
TZOFFSETFROM:+0200
TZOFFSETTO:+0100
TZNAME:CET
DTSTART:20251026T010000
END:STANDARD
BEGIN:DAYLIGHT
TZOFFSETFROM:+0100
TZOFFSETTO:+0200
TZNAME:CEST
DTSTART:20260329T010000
END:DAYLIGHT
BEGIN:STANDARD
TZOFFSETFROM:+0200
TZOFFSETTO:+0100
TZNAME:CET
DTSTART:20261025T010000
END:STANDARD
BEGIN:DAYLIGHT
TZOFFSETFROM:+0100
TZOFFSETTO:+0200
TZNAME:CEST
DTSTART:20270328T010000
END:DAYLIGHT
BEGIN:STANDARD
TZOFFSETFROM:+0200
TZOFFSETTO:+0100
TZNAME:CET
DTSTART:20271031T010000
END:STANDARD
END:VTIMEZONE
BEGIN:VEVENT
DTSTART;TZID=Europe/Madrid:20260611T160000
DTEND;TZID=Europe/Madrid:20260611T160000
DTSTAMP:20260423T145318
CREATED:20260423T075722Z
LAST-MODIFIED:20260423T075722Z
UID:11244-1781193600-1781193600@www.sevillaemprendedora.org
SUMMARY:Venta Online para Comerciantes - Sesión 2
DESCRIPTION:METODOLOGIA: Metodología eminentemente práctica que mostrará\, a las personas titulares de comercios\, a través del análisis de casos\, los aspectos relevantes de la venta por internet. \nOBJETIVOS:  \n  Dar a conocer las ventajas y posibilidades que ofrece el comercio online.  \n  Analizar los aspectos técnicos y legales fundamentales de la venta por internet.   Facilitar las herramientas y los conocimientos básicos para vender a través de internet.  \n\nCONTENIDOS: \nAspectos  relevantes  de  la  venta  por  internet:  normativa\,  facturación\, métodos  de pago\, seguridad\, logística\, fiscalidad\, busqueda de clientes.\nPlataformas de comercio electrónico. \nEl Geomarketing. \nPosicionamiento de la tienda en Google. \nHerramientas analíticas para el Ecommerce. \n\nInscribirme a esta formación
URL:https://www.sevillaemprendedora.org/evento/venta-online-para-comerciantes-sesion-2/
CATEGORIES:Formación#SevillaEmprendedora
ATTACH;FMTTYPE=image/jpeg:https://www.sevillaemprendedora.org/wp-content/uploads/2026/04/Venta20Online20para20comerciantes-hUGWr4.jpg
END:VEVENT
END:VCALENDAR