BEGIN:VCALENDAR
VERSION:2.0
PRODID:-//Sevilla Emprendedora - ECPv6.15.18//NONSGML v1.0//EN
CALSCALE:GREGORIAN
METHOD:PUBLISH
X-WR-CALNAME:Sevilla Emprendedora
X-ORIGINAL-URL:https://www.sevillaemprendedora.org
X-WR-CALDESC:Eventos para Sevilla Emprendedora
REFRESH-INTERVAL;VALUE=DURATION:PT1H
X-Robots-Tag:noindex
X-PUBLISHED-TTL:PT1H
BEGIN:VTIMEZONE
TZID:Europe/Madrid
BEGIN:DAYLIGHT
TZOFFSETFROM:+0100
TZOFFSETTO:+0200
TZNAME:CEST
DTSTART:20250330T010000
END:DAYLIGHT
BEGIN:STANDARD
TZOFFSETFROM:+0200
TZOFFSETTO:+0100
TZNAME:CET
DTSTART:20251026T010000
END:STANDARD
BEGIN:DAYLIGHT
TZOFFSETFROM:+0100
TZOFFSETTO:+0200
TZNAME:CEST
DTSTART:20260329T010000
END:DAYLIGHT
BEGIN:STANDARD
TZOFFSETFROM:+0200
TZOFFSETTO:+0100
TZNAME:CET
DTSTART:20261025T010000
END:STANDARD
BEGIN:DAYLIGHT
TZOFFSETFROM:+0100
TZOFFSETTO:+0200
TZNAME:CEST
DTSTART:20270328T010000
END:DAYLIGHT
BEGIN:STANDARD
TZOFFSETFROM:+0200
TZOFFSETTO:+0100
TZNAME:CET
DTSTART:20271031T010000
END:STANDARD
END:VTIMEZONE
BEGIN:VEVENT
DTSTART;TZID=Europe/Madrid:20260311T090000
DTEND;TZID=Europe/Madrid:20260313T150000
DTSTAMP:20260423T120554
CREATED:20251231T154532Z
LAST-MODIFIED:20260101T201630Z
UID:9541-1773219600-1773414000@www.sevillaemprendedora.org
SUMMARY:European Hydrogen Energy Conference 2026
DESCRIPTION:La Asociación Española del Hidrógeno (AeH2) impulsa una nueva edición de la European Hydrogen Energy Conference 2026 (EHEC)\, que se celebra en Sevilla del 11 al 13 de marzo de 2026. Desde 2005\, la cita es un encuentro de referencia del sector\, reuniendo a empresas punteras\, representantes institucionales y expertos científicos. La edición de 2026 llega en un momento clave para la industria y se presenta como una plataforma internacional para impulsar inversión\, colaboración industrial y científica\, y acelerar el desarrollo del hidrógeno renovable en España y Europa.\nLa conferencia reúne en Sevilla a más de 1.300 delegados de 45 países. Durante tres días\, se celebrarán más de 250 sesiones científicas y técnicas\, cuatro plenarias con ponentes de alto nivel y encuentros de negocio. El programa incluye una zona expositiva de 3.000 m² con la participación de más de 80 entidades\, además de espacios de networking y actividades institucionales. Esta combinación de ciencia\, industria e instituciones y centros de decisión convierte al congreso en una plataforma estratégica para favorecer el desarrollo del sector y fortalecer la cooperación internacional en torno al hidrógeno.
URL:https://www.sevillaemprendedora.org/evento/european-hydrogen-energy-conference-2026/
LOCATION:Fibes Palacio de Congresos y Exposiciones de Sevilla\, Avenida Luis Uruñuela\, 1\, Sevilla\, Sevilla\, 41020\, España
CATEGORIES:Ecosistema Emprendedor
ATTACH;FMTTYPE=image/jpeg:https://www.sevillaemprendedora.org/wp-content/uploads/2025/12/11-al-13-Marzo-European-Hydrogen.jpg
END:VEVENT
BEGIN:VEVENT
DTSTART;TZID=Europe/Madrid:20260311T093000
DTEND;TZID=Europe/Madrid:20260313T150000
DTSTAMP:20260423T120554
CREATED:20260301T222313Z
LAST-MODIFIED:20260301T222313Z
UID:10532-1773221400-1773414000@www.sevillaemprendedora.org
SUMMARY:Feria Internacional de Rescate\, Auxilio y Emergencias
DESCRIPTION:Séptima edición de Fireca\, plataforma del sector de componentes\, equipos\, servicios y vehículos de rescate\, auxilio y emergencias en España\, dirigida a visitantes profesionales de la Península Ibérica\, norte de África y Europa. Fireca potencia el perfil dinámico y altamente competitivo del sector\, su carácter innovador y tecnológico\, su perfil exportador y su contribución a la seguridad vial.\nEntre las temáticas: Contexto de la asistencia y el traslado/transporte de vehículos electrificados. Evolución de los vehiculos electrificados. Intervenciones seguras en vehículos eléctricos accidentados: riesgos\, procedimientos y coordinación. Procesos\, mejoras y evolución en la asistencia a vehículos industriales.
URL:https://www.sevillaemprendedora.org/evento/feria-internacional-de-rescate-auxilio-y-emergencias/
LOCATION:Fibes Palacio de Congresos y Exposiciones de Sevilla\, Avenida Luis Uruñuela\, 1\, Sevilla\, Sevilla\, 41020\, España
CATEGORIES:Ecosistema Emprendedor
ATTACH;FMTTYPE=image/png:https://www.sevillaemprendedora.org/wp-content/uploads/2026/03/11-al-13-Marzo-Fireca.png
END:VEVENT
END:VCALENDAR