BEGIN:VCALENDAR
VERSION:2.0
PRODID:-//Sevilla Emprendedora - ECPv6.15.18//NONSGML v1.0//EN
CALSCALE:GREGORIAN
METHOD:PUBLISH
X-WR-CALNAME:Sevilla Emprendedora
X-ORIGINAL-URL:https://www.sevillaemprendedora.org
X-WR-CALDESC:Eventos para Sevilla Emprendedora
REFRESH-INTERVAL;VALUE=DURATION:PT1H
X-Robots-Tag:noindex
X-PUBLISHED-TTL:PT1H
BEGIN:VTIMEZONE
TZID:Europe/Madrid
BEGIN:DAYLIGHT
TZOFFSETFROM:+0100
TZOFFSETTO:+0200
TZNAME:CEST
DTSTART:20250330T010000
END:DAYLIGHT
BEGIN:STANDARD
TZOFFSETFROM:+0200
TZOFFSETTO:+0100
TZNAME:CET
DTSTART:20251026T010000
END:STANDARD
BEGIN:DAYLIGHT
TZOFFSETFROM:+0100
TZOFFSETTO:+0200
TZNAME:CEST
DTSTART:20260329T010000
END:DAYLIGHT
BEGIN:STANDARD
TZOFFSETFROM:+0200
TZOFFSETTO:+0100
TZNAME:CET
DTSTART:20261025T010000
END:STANDARD
BEGIN:DAYLIGHT
TZOFFSETFROM:+0100
TZOFFSETTO:+0200
TZNAME:CEST
DTSTART:20270328T010000
END:DAYLIGHT
BEGIN:STANDARD
TZOFFSETFROM:+0200
TZOFFSETTO:+0100
TZNAME:CET
DTSTART:20271031T010000
END:STANDARD
END:VTIMEZONE
BEGIN:VEVENT
DTSTART;TZID=Europe/Madrid:20260519T090000
DTEND;TZID=Europe/Madrid:20260521T190000
DTSTAMP:20260420T073501
CREATED:20251231T151624Z
LAST-MODIFIED:20260101T192157Z
UID:9528-1779181200-1779390000@www.sevillaemprendedora.org
SUMMARY:Aerospace & Defense Meetings 2026
DESCRIPTION:ADM Sevilla es una convención de negocios que conecta a las grandes industrias aeronáuticas y sus proveedores de nivel 1 y 2 con los fabricantes y proveedores de servicios\, tanto de la aviación civil como de la defensa\, a través de una serie de reuniones B2B personalizadas. Participan representantes de más de 300 empresas de más de 25 países de Europa\, Asia\, América y África.\nAndalucía Trade y BCI Aerospace ayudan a poner en relación tanto a las grandes empresas como a las pymes relacionadas con los sectores aeroespacial y de la defensa\, explorando así mercados específicos y logrando nuevas oportunidades de negocios.\nADM Sevilla está afianzado como el principal encuentro de negocios de la industria aeroespacial española. Es el foro en el que se presentan los planes de la industria aeroespacial europea\, se afrontan sus nuevos retos\, y proyectos en los que participa el clúster aeroespacial andaluz y\, en general\, el español. Andalucía se convierte\, con ADM Sevilla\, en anfitriona y enclave estratégico del circuito mundial de negocio de un sector industrial complejo\, en el que las empresas multiplican su capacidad de negocio.
URL:https://www.sevillaemprendedora.org/evento/aerospace-defense-meetings/
LOCATION:Fibes Palacio de Congresos y Exposiciones de Sevilla\, Avenida Luis Uruñuela\, 1\, Sevilla\, Sevilla\, 41020\, España
CATEGORIES:Ecosistema Emprendedor
ATTACH;FMTTYPE=image/jpeg:https://www.sevillaemprendedora.org/wp-content/uploads/2025/12/19-al-21-Mayo-Aerospace-Defense-Meetings.jpeg
END:VEVENT
END:VCALENDAR