BEGIN:VCALENDAR
VERSION:2.0
PRODID:-//Sevilla Emprendedora - ECPv6.15.18//NONSGML v1.0//EN
CALSCALE:GREGORIAN
METHOD:PUBLISH
X-WR-CALNAME:Sevilla Emprendedora
X-ORIGINAL-URL:https://www.sevillaemprendedora.org
X-WR-CALDESC:Eventos para Sevilla Emprendedora
REFRESH-INTERVAL;VALUE=DURATION:PT1H
X-Robots-Tag:noindex
X-PUBLISHED-TTL:PT1H
BEGIN:VTIMEZONE
TZID:Europe/Madrid
BEGIN:DAYLIGHT
TZOFFSETFROM:+0100
TZOFFSETTO:+0200
TZNAME:CEST
DTSTART:20250330T010000
END:DAYLIGHT
BEGIN:STANDARD
TZOFFSETFROM:+0200
TZOFFSETTO:+0100
TZNAME:CET
DTSTART:20251026T010000
END:STANDARD
BEGIN:DAYLIGHT
TZOFFSETFROM:+0100
TZOFFSETTO:+0200
TZNAME:CEST
DTSTART:20260329T010000
END:DAYLIGHT
BEGIN:STANDARD
TZOFFSETFROM:+0200
TZOFFSETTO:+0100
TZNAME:CET
DTSTART:20261025T010000
END:STANDARD
BEGIN:DAYLIGHT
TZOFFSETFROM:+0100
TZOFFSETTO:+0200
TZNAME:CEST
DTSTART:20270328T010000
END:DAYLIGHT
BEGIN:STANDARD
TZOFFSETFROM:+0200
TZOFFSETTO:+0100
TZNAME:CET
DTSTART:20271031T010000
END:STANDARD
END:VTIMEZONE
BEGIN:VEVENT
DTSTART;TZID=Europe/Madrid:20260528T090000
DTEND;TZID=Europe/Madrid:20260529T143000
DTSTAMP:20260420T073500
CREATED:20251231T160631Z
LAST-MODIFIED:20260101T191541Z
UID:9554-1779958800-1780065000@www.sevillaemprendedora.org
SUMMARY:Aotec 2026
DESCRIPTION:Aotec 2026 -conferencias y feria expositiva- es un evento de referencia en tecnología y telecomunicaciones en España con repercusión internacional. Reúne en Sevilla las voces que están definiendo la nueva economía digital y del conocimiento. Un espacio donde la innovación se vive y se generan oportunidades de networking y alianzas. Con la IA\, las soluciones para la transformación digital\, la conectividad y la resiliencia.\nAotec es una organización profesional empresarial cuyo objetivo es la representación\, impulso\, coordinación y defensa de los operadores locales de telecomunicaciones. Es la única entidad de ámbito nacional en este campo y agrupa a más de 150 empresas.
URL:https://www.sevillaemprendedora.org/evento/aotec-2026/
LOCATION:Fibes Palacio de Congresos y Exposiciones de Sevilla\, Avenida Luis Uruñuela\, 1\, Sevilla\, Sevilla\, 41020\, España
CATEGORIES:Ecosistema Emprendedor
ATTACH;FMTTYPE=image/png:https://www.sevillaemprendedora.org/wp-content/uploads/2025/12/28-y-29-Mayo-Aotec-2026.png
END:VEVENT
END:VCALENDAR