BEGIN:VCALENDAR
VERSION:2.0
PRODID:-//Sevilla Emprendedora - ECPv6.15.18//NONSGML v1.0//EN
CALSCALE:GREGORIAN
METHOD:PUBLISH
X-WR-CALNAME:Sevilla Emprendedora
X-ORIGINAL-URL:https://www.sevillaemprendedora.org
X-WR-CALDESC:Eventos para Sevilla Emprendedora
REFRESH-INTERVAL;VALUE=DURATION:PT1H
X-Robots-Tag:noindex
X-PUBLISHED-TTL:PT1H
BEGIN:VTIMEZONE
TZID:Europe/Madrid
BEGIN:DAYLIGHT
TZOFFSETFROM:+0100
TZOFFSETTO:+0200
TZNAME:CEST
DTSTART:20250330T010000
END:DAYLIGHT
BEGIN:STANDARD
TZOFFSETFROM:+0200
TZOFFSETTO:+0100
TZNAME:CET
DTSTART:20251026T010000
END:STANDARD
BEGIN:DAYLIGHT
TZOFFSETFROM:+0100
TZOFFSETTO:+0200
TZNAME:CEST
DTSTART:20260329T010000
END:DAYLIGHT
BEGIN:STANDARD
TZOFFSETFROM:+0200
TZOFFSETTO:+0100
TZNAME:CET
DTSTART:20261025T010000
END:STANDARD
BEGIN:DAYLIGHT
TZOFFSETFROM:+0100
TZOFFSETTO:+0200
TZNAME:CEST
DTSTART:20270328T010000
END:DAYLIGHT
BEGIN:STANDARD
TZOFFSETFROM:+0200
TZOFFSETTO:+0100
TZNAME:CET
DTSTART:20271031T010000
END:STANDARD
END:VTIMEZONE
BEGIN:VEVENT
DTSTART;TZID=Europe/Madrid:20260924T090000
DTEND;TZID=Europe/Madrid:20260924T190000
DTSTAMP:20260420T142123
CREATED:20251231T155338Z
LAST-MODIFIED:20260101T214800Z
UID:9548-1790240400-1790276400@www.sevillaemprendedora.org
SUMMARY:The Covered Bond Congress 2026
DESCRIPTION:La reunión anual más grande\, de mayor prestigio y más internacional del mercado de bonos garantizados. Organizada por The Financial Times. Con más de 1.400 participantes de más de 40 países. Con un programa completo y variado de contenido interactivo y revelador\, miles de reuniones con emisores e inversores\, así como un sinfín de oportunidades para conectar y establecer contactos.
URL:https://www.sevillaemprendedora.org/evento/the-covered-bond-congress-2026/
LOCATION:Fibes Palacio de Congresos y Exposiciones de Sevilla\, Avenida Luis Uruñuela\, 1\, Sevilla\, Sevilla\, 41020\, España
CATEGORIES:Ecosistema Emprendedor
ATTACH;FMTTYPE=image/png:https://www.sevillaemprendedora.org/wp-content/uploads/2025/12/24-Septiembre-The-Covered-Bond-Congress-2026.png
END:VEVENT
END:VCALENDAR