BEGIN:VCALENDAR
VERSION:2.0
PRODID:-//Sevilla Emprendedora - ECPv6.15.18//NONSGML v1.0//EN
CALSCALE:GREGORIAN
METHOD:PUBLISH
X-ORIGINAL-URL:https://www.sevillaemprendedora.org
X-WR-CALDESC:Eventos para Sevilla Emprendedora
REFRESH-INTERVAL;VALUE=DURATION:PT1H
X-Robots-Tag:noindex
X-PUBLISHED-TTL:PT1H
BEGIN:VTIMEZONE
TZID:Europe/Madrid
BEGIN:DAYLIGHT
TZOFFSETFROM:+0100
TZOFFSETTO:+0200
TZNAME:CEST
DTSTART:20230326T010000
END:DAYLIGHT
BEGIN:STANDARD
TZOFFSETFROM:+0200
TZOFFSETTO:+0100
TZNAME:CET
DTSTART:20231029T010000
END:STANDARD
BEGIN:DAYLIGHT
TZOFFSETFROM:+0100
TZOFFSETTO:+0200
TZNAME:CEST
DTSTART:20240331T010000
END:DAYLIGHT
BEGIN:STANDARD
TZOFFSETFROM:+0200
TZOFFSETTO:+0100
TZNAME:CET
DTSTART:20241027T010000
END:STANDARD
BEGIN:DAYLIGHT
TZOFFSETFROM:+0100
TZOFFSETTO:+0200
TZNAME:CEST
DTSTART:20250330T010000
END:DAYLIGHT
BEGIN:STANDARD
TZOFFSETFROM:+0200
TZOFFSETTO:+0100
TZNAME:CET
DTSTART:20251026T010000
END:STANDARD
END:VTIMEZONE
BEGIN:VEVENT
DTSTART;TZID=Europe/Madrid:20240508T093000
DTEND;TZID=Europe/Madrid:20240508T110000
DTSTAMP:20260419T224943
CREATED:20240426T065523Z
LAST-MODIFIED:20240426T065523Z
UID:3507-1715160600-1715166000@www.sevillaemprendedora.org
SUMMARY:Cultura organizacional y seguridad laboral
DESCRIPTION:Taller de formación online ofrecido por la Asociación Secot en colaboración con Andalucía Emprende. El objetivo es\, en este caso: El bienestar de los empleados requiere de la implementación de políticas y prácticas que fomenten el equilibrio entre las necesidades de la empresa y las de sus empleados. Dichas acciones han de resolver sobre el desempeño\, la solución de conflictos\, el desarrollo de competencias y las oportunidades de crecimiento. De estos y otros factores hablarán para incrementar la productividad y un ambiente de trabajo positivo y saludable. \nPonente: Adriana Linde Martín\, Socia de Secot Málaga. Psicóloga especialista en Psicología Clínica. Ha trabajado hasta su jubilación como formadora en el Servicio Andaluz de Salud y en el Instituto Andaluz de Administración Pública.
URL:https://www.sevillaemprendedora.org/evento/cultura-organizacional-y-seguridad-laboral/
LOCATION:Online
CATEGORIES:Ecosistema Emprendedor
ATTACH;FMTTYPE=image/jpeg:https://www.sevillaemprendedora.org/wp-content/uploads/2024/04/8-Mayo-Cultura-organizacional-y-satisfaccion-laboral-1.jpeg
END:VEVENT
BEGIN:VEVENT
DTSTART;TZID=Europe/Madrid:20240515T093000
DTEND;TZID=Europe/Madrid:20240515T110000
DTSTAMP:20260419T224943
CREATED:20240508T195524Z
LAST-MODIFIED:20240508T195524Z
UID:3636-1715765400-1715770800@www.sevillaemprendedora.org
SUMMARY:Marca personal y redes sociales
DESCRIPTION:Taller online sobre el concepto de Marca Persona y las estrategias para su desarrollo. Lo imparte José Tomás Reyes Bujalance\, Socio de la Asociación Secot en Sevilla. Licenciado en Ciencias del Trabajo y Grado en Relaciones Laborales. Experiencia de más de 25 años como Director de Recursos Humanos y Relaciones Institucionales en Roca Sanitario. \nOrientará sobre el proceso de gestión de la marca personal: Procesos facilitadores y resultados. Elementos intervinientes y elementos influyentes.La pirámide de la marca y su construcción. Identidad Digital. Ejemplo de marca de un “Personal Trainer”. Estrategia\, objetivos y análisis de resultados.
URL:https://www.sevillaemprendedora.org/evento/marca-personal-y-redes-sociales/
LOCATION:Online
CATEGORIES:Ecosistema Emprendedor
ATTACH;FMTTYPE=image/jpeg:https://www.sevillaemprendedora.org/wp-content/uploads/2024/05/15-Mayo-Marca-personal-y-redes-sociales-1.jpeg
END:VEVENT
BEGIN:VEVENT
DTSTART;TZID=Europe/Madrid:20240529T093000
DTEND;TZID=Europe/Madrid:20240529T110000
DTSTAMP:20260419T224943
CREATED:20240516T043121Z
LAST-MODIFIED:20240516T043121Z
UID:3883-1716975000-1716980400@www.sevillaemprendedora.org
SUMMARY:Claves del trabajo en equipo
DESCRIPTION:Webinar ofrecido por la Asociación Secot para orientar a cualquier persona emprendedora sobre cómo mejorar la importancia de la integración en un equipo y como se trabaja en él. \nContenido del webinar: Madurez de los trabajadores y las trabajadoras. Motivación. Gestión del cambio. Trabajo en equipo. Importancia del DAFO del equipo. \nEl ponente es Juan Fonseca Morillo\, Socio de Secot La Coruña. Desde su formación como ingeniero y físico\, Juan ha recorrido una amplia trayectoria empresarial en compañías industriales\, donde pronto ocupó cargos relacionados con gestión de personas y organización. Experto en habilidades blandas/soft skills\, es profesor habitual de diversas instituciones diseñando e impartiendo talleres y ponencias sobre comunicación y personas.
URL:https://www.sevillaemprendedora.org/evento/claves-del-trabajo-en-equipo/
LOCATION:Online
CATEGORIES:Ecosistema Emprendedor,Webinar
ATTACH;FMTTYPE=image/jpeg:https://www.sevillaemprendedora.org/wp-content/uploads/2024/05/29-Mayo-Claves-del-trabajo-en-equipo-1.jpeg
END:VEVENT
END:VCALENDAR