BEGIN:VCALENDAR
VERSION:2.0
PRODID:-//Sevilla Emprendedora - ECPv6.15.18//NONSGML v1.0//EN
CALSCALE:GREGORIAN
METHOD:PUBLISH
X-ORIGINAL-URL:https://www.sevillaemprendedora.org
X-WR-CALDESC:Eventos para Sevilla Emprendedora
REFRESH-INTERVAL;VALUE=DURATION:PT1H
X-Robots-Tag:noindex
X-PUBLISHED-TTL:PT1H
BEGIN:VTIMEZONE
TZID:Europe/Madrid
BEGIN:DAYLIGHT
TZOFFSETFROM:+0100
TZOFFSETTO:+0200
TZNAME:CEST
DTSTART:20230326T010000
END:DAYLIGHT
BEGIN:STANDARD
TZOFFSETFROM:+0200
TZOFFSETTO:+0100
TZNAME:CET
DTSTART:20231029T010000
END:STANDARD
BEGIN:DAYLIGHT
TZOFFSETFROM:+0100
TZOFFSETTO:+0200
TZNAME:CEST
DTSTART:20240331T010000
END:DAYLIGHT
BEGIN:STANDARD
TZOFFSETFROM:+0200
TZOFFSETTO:+0100
TZNAME:CET
DTSTART:20241027T010000
END:STANDARD
BEGIN:DAYLIGHT
TZOFFSETFROM:+0100
TZOFFSETTO:+0200
TZNAME:CEST
DTSTART:20250330T010000
END:DAYLIGHT
BEGIN:STANDARD
TZOFFSETFROM:+0200
TZOFFSETTO:+0100
TZNAME:CET
DTSTART:20251026T010000
END:STANDARD
END:VTIMEZONE
BEGIN:VEVENT
DTSTART;TZID=Europe/Madrid:20240613T093000
DTEND;TZID=Europe/Madrid:20240613T110000
DTSTAMP:20260419T212825
CREATED:20240611T093200Z
LAST-MODIFIED:20240611T093200Z
UID:4472-1718271000-1718276400@www.sevillaemprendedora.org
SUMMARY:Liderazgo femenino en emprendimiento
DESCRIPTION:Andalucía Emprende y la Asociación de Seniors Españoles para la Cooperación Técnica (SECOT) ofrecen talleres online sobre materias de gran interés\, que se pueden realizar de forma independiente. En esta ocasión\, el objetivo es divulgar y definir el concepto de liderazgo femenino\, particularmente en el campo del emprendimiento\, como la participación de las mujeres en diferentes áreas\, donde se encuentran en una posición de poder y ejerciendo un papel de tomadoras de decisiones\, dirigen grupos de trabajo y tienen la oportunidad de implementar propuestas y estrategias donde permiten demostrar su liderazgo. \nPonente: María Tajadura Fernández. Colaboradora de SECOT. Periodista en Jaén\, más de 20 años dedicada a la comunicación en diferentes medios (radio\, prensa escrita\, gabinetes de prensa y publicaciones especializadas)\, actividad que compagina con la formación de desarrollo profesional dirigida a distintos tipos de colectivos. 
URL:https://www.sevillaemprendedora.org/evento/liderazgo-femenino-en-emprendimiento/
LOCATION:Online
CATEGORIES:Ecosistema Emprendedor,Webinar
ATTACH;FMTTYPE=image/png:https://www.sevillaemprendedora.org/wp-content/uploads/2024/06/13-Junio-Liderazgo-femenino-en-emprendimiento.png
END:VEVENT
END:VCALENDAR