BEGIN:VCALENDAR
VERSION:2.0
PRODID:-//Sevilla Emprendedora - ECPv6.15.18//NONSGML v1.0//EN
CALSCALE:GREGORIAN
METHOD:PUBLISH
X-ORIGINAL-URL:https://www.sevillaemprendedora.org
X-WR-CALDESC:Eventos para Sevilla Emprendedora
REFRESH-INTERVAL;VALUE=DURATION:PT1H
X-Robots-Tag:noindex
X-PUBLISHED-TTL:PT1H
BEGIN:VTIMEZONE
TZID:Europe/Madrid
BEGIN:DAYLIGHT
TZOFFSETFROM:+0100
TZOFFSETTO:+0200
TZNAME:CEST
DTSTART:20230326T010000
END:DAYLIGHT
BEGIN:STANDARD
TZOFFSETFROM:+0200
TZOFFSETTO:+0100
TZNAME:CET
DTSTART:20231029T010000
END:STANDARD
BEGIN:DAYLIGHT
TZOFFSETFROM:+0100
TZOFFSETTO:+0200
TZNAME:CEST
DTSTART:20240331T010000
END:DAYLIGHT
BEGIN:STANDARD
TZOFFSETFROM:+0200
TZOFFSETTO:+0100
TZNAME:CET
DTSTART:20241027T010000
END:STANDARD
BEGIN:DAYLIGHT
TZOFFSETFROM:+0100
TZOFFSETTO:+0200
TZNAME:CEST
DTSTART:20250330T010000
END:DAYLIGHT
BEGIN:STANDARD
TZOFFSETFROM:+0200
TZOFFSETTO:+0100
TZNAME:CET
DTSTART:20251026T010000
END:STANDARD
END:VTIMEZONE
BEGIN:VEVENT
DTSTART;TZID=Europe/Madrid:20240911T093000
DTEND;TZID=Europe/Madrid:20240911T110000
DTSTAMP:20260419T165407
CREATED:20240908T044152Z
LAST-MODIFIED:20240908T044152Z
UID:5407-1726047000-1726052400@www.sevillaemprendedora.org
SUMMARY:Taller sobre la Inteligencia Artificial en la vida real
DESCRIPTION:Primero de los talleres online y gratuitos que ofrece Secot durante el mes de septiembre\, y respaldados por Andalucía Emprende. Van dirigidos  a personas emprendedoras y empresarias\, y son impartidos por magníficos profesionales con amplia experiencia y conocimientos\, que forman parte de modo altruista de los mentores adscritos a la Escuela para Emprendedores de la Asociación Secot (Seniors Españoles para la Cooperación Técnica)\, altruista y declarada de interés público. \nLo imparte José Ontana Rodríguez. Su experiencia es doble\, como economista y experto tecnológico. Ha trabajado en el equipo de Sistemas de Información de Banco de España. Es formador en distintas instituciones y divulgador de educación financiera y de inteligencia artificial y la aplicación de ésta a la búsqueda de empleo\, al emprendimiento\, al marketing digital y al incremento de productividad y rentabilidad de las pymes.
URL:https://www.sevillaemprendedora.org/evento/taller-sobre-la-inteligencia-artificial-en-la-vida-real/
LOCATION:Online
CATEGORIES:Ecosistema Emprendedor
ATTACH;FMTTYPE=image/jpeg:https://www.sevillaemprendedora.org/wp-content/uploads/2024/09/11-Septiembre-Taller-Secot-La-Inteligencia-Artificial-en-la-vida-real.jpeg
END:VEVENT
BEGIN:VEVENT
DTSTART;TZID=Europe/Madrid:20240918T093000
DTEND;TZID=Europe/Madrid:20240918T110000
DTSTAMP:20260419T165407
CREATED:20240908T053233Z
LAST-MODIFIED:20240908T053233Z
UID:5424-1726651800-1726657200@www.sevillaemprendedora.org
SUMMARY:Estrategias de comunicación digital\, claves para potenciar tu marca
DESCRIPTION:‘Estrategias de comunicación digital. Claves para potenciar tu marca en la era digital’\, es otro de los talleres online de nivel básico\, sobre materias de interés y actualidad\, que ofrece la Asociación Secot y que se pueden realizar de forma independiente por personas emprendedoras y empresarias interesadas.  \nEntre los objetivos de este taller: Comprender la comunicación digital. Proporcionar una visión integral de la comunicación digital y su impacto en las marcas. Utilizar herramientas digitales. Explorar las herramientas más efectivas para gestionar y optimizar la comunicación digital. Medición y optimización. Identificar las tendencias emergentes y preparar estrategias para el futuro.
URL:https://www.sevillaemprendedora.org/evento/estrategias-de-comunicacion-digital-claves-para-potenciar-tu-marca/
LOCATION:Online
CATEGORIES:Ecosistema Emprendedor
ATTACH;FMTTYPE=image/png:https://www.sevillaemprendedora.org/wp-content/uploads/2024/09/18-Septiembre-Taller-Secot-Estrategias-de-Comunicacion-Digital.png
END:VEVENT
BEGIN:VEVENT
DTSTART;TZID=Europe/Madrid:20240925T093000
DTEND;TZID=Europe/Madrid:20240925T110000
DTSTAMP:20260419T165407
CREATED:20240908T070527Z
LAST-MODIFIED:20240908T070527Z
UID:5442-1727256600-1727262000@www.sevillaemprendedora.org
SUMMARY:Taller sobre Sostenibilidad e Inversión de Impacto
DESCRIPTION:‘Sostenibilidad e inversión de impacto’ es uno de los talleres online y gratuitos que ofrece Secot durante el mes de septiembre\, y respaldados por Andalucía Emprende. Van dirigidos  a personas emprendedoras y empresarias\, y son impartidos por magníficos profesionales con amplia experiencia y conocimientos\, que forman parte de modo altruista de los mentores adscritos a la Escuela para Emprendedores de la Asociación Secot (Seniors Españoles para la Cooperación Técnica)\, altruista y declarada de interés público. \nImpartido por Rosa Estañ Homs. Ha sido directiva durante más de 25 años en diversas entidades financieras\, desarrollando tareas tanto de atención al cliente particular y empresas\, como en la planificación y control presupuestario y económico. Es emprendedora y empresaria\, en el sector de consultoría\, asesoramiento y desarrollo de competencias profesionales y directivas. Es fundadora de Finanzas Claras y Fáciles. Es socia de la Asociación Economía del Bien Común.
URL:https://www.sevillaemprendedora.org/evento/taller-sobre-sostenibilidad-e-inversion-de-impacto/
LOCATION:Online
CATEGORIES:Ecosistema Emprendedor
ATTACH;FMTTYPE=image/png:https://www.sevillaemprendedora.org/wp-content/uploads/2024/09/25-Septiembre-BUENO-Taller-Secot.png
END:VEVENT
END:VCALENDAR