BEGIN:VCALENDAR
VERSION:2.0
PRODID:-//Sevilla Emprendedora - ECPv6.15.18//NONSGML v1.0//EN
CALSCALE:GREGORIAN
METHOD:PUBLISH
X-WR-CALNAME:Sevilla Emprendedora
X-ORIGINAL-URL:https://www.sevillaemprendedora.org
X-WR-CALDESC:Eventos para Sevilla Emprendedora
REFRESH-INTERVAL;VALUE=DURATION:PT1H
X-Robots-Tag:noindex
X-PUBLISHED-TTL:PT1H
BEGIN:VTIMEZONE
TZID:Europe/Madrid
BEGIN:DAYLIGHT
TZOFFSETFROM:+0100
TZOFFSETTO:+0200
TZNAME:CEST
DTSTART:20230326T010000
END:DAYLIGHT
BEGIN:STANDARD
TZOFFSETFROM:+0200
TZOFFSETTO:+0100
TZNAME:CET
DTSTART:20231029T010000
END:STANDARD
BEGIN:DAYLIGHT
TZOFFSETFROM:+0100
TZOFFSETTO:+0200
TZNAME:CEST
DTSTART:20240331T010000
END:DAYLIGHT
BEGIN:STANDARD
TZOFFSETFROM:+0200
TZOFFSETTO:+0100
TZNAME:CET
DTSTART:20241027T010000
END:STANDARD
BEGIN:DAYLIGHT
TZOFFSETFROM:+0100
TZOFFSETTO:+0200
TZNAME:CEST
DTSTART:20250330T010000
END:DAYLIGHT
BEGIN:STANDARD
TZOFFSETFROM:+0200
TZOFFSETTO:+0100
TZNAME:CET
DTSTART:20251026T010000
END:STANDARD
END:VTIMEZONE
BEGIN:VEVENT
DTSTART;TZID=Europe/Madrid:20240410T093000
DTEND;TZID=Europe/Madrid:20240410T110000
DTSTAMP:20260420T014526
CREATED:20240401T050449Z
LAST-MODIFIED:20240401T050449Z
UID:2744-1712741400-1712746800@www.sevillaemprendedora.org
SUMMARY:La aventura de emprender
DESCRIPTION:La Asociación Secot ofrece un webinario para conocer y asumir las dificultades y gratificaciones que conlleva la aventura de emprender. Contenido: Dimensiones de un emprendimiento. La acción de emprender (componentes formales\, metodologías\, balance). El emprendedor y la actitud emprendedora. La idea (validación de la idea\, los clientes\, el valor de la competencia). \nLo imparte María José Jiménez Vivas. Socia de Secot Madrid. Licenciada en Psicología y en Ciencias Económicas. Máster en Dirección y Administración de Empresas\, Máster en Recursos Humanos. Ha sido gerente de fundaciones y asociaciones para personas con discapacidad intelectual.
URL:https://www.sevillaemprendedora.org/evento/la-aventura-de-emprender/
LOCATION:Online
CATEGORIES:Ecosistema Emprendedor,Webinar
ATTACH;FMTTYPE=image/jpeg:https://www.sevillaemprendedora.org/wp-content/uploads/2024/04/10-Abr.-La-aventura-de-emprender-un-foro-para-la-reflexion.jpeg
END:VEVENT
END:VCALENDAR