BEGIN:VCALENDAR
VERSION:2.0
PRODID:-//Sevilla Emprendedora - ECPv6.15.18//NONSGML v1.0//EN
CALSCALE:GREGORIAN
METHOD:PUBLISH
X-ORIGINAL-URL:https://www.sevillaemprendedora.org
X-WR-CALDESC:Eventos para Sevilla Emprendedora
REFRESH-INTERVAL;VALUE=DURATION:PT1H
X-Robots-Tag:noindex
X-PUBLISHED-TTL:PT1H
BEGIN:VTIMEZONE
TZID:Europe/Madrid
BEGIN:DAYLIGHT
TZOFFSETFROM:+0100
TZOFFSETTO:+0200
TZNAME:CEST
DTSTART:20230326T010000
END:DAYLIGHT
BEGIN:STANDARD
TZOFFSETFROM:+0200
TZOFFSETTO:+0100
TZNAME:CET
DTSTART:20231029T010000
END:STANDARD
BEGIN:DAYLIGHT
TZOFFSETFROM:+0100
TZOFFSETTO:+0200
TZNAME:CEST
DTSTART:20240331T010000
END:DAYLIGHT
BEGIN:STANDARD
TZOFFSETFROM:+0200
TZOFFSETTO:+0100
TZNAME:CET
DTSTART:20241027T010000
END:STANDARD
BEGIN:DAYLIGHT
TZOFFSETFROM:+0100
TZOFFSETTO:+0200
TZNAME:CEST
DTSTART:20250330T010000
END:DAYLIGHT
BEGIN:STANDARD
TZOFFSETFROM:+0200
TZOFFSETTO:+0100
TZNAME:CET
DTSTART:20251026T010000
END:STANDARD
END:VTIMEZONE
BEGIN:VEVENT
DTSTART;TZID=Europe/Madrid:20240424T093000
DTEND;TZID=Europe/Madrid:20240424T110000
DTSTAMP:20260420T014828
CREATED:20240401T051550Z
LAST-MODIFIED:20240401T051639Z
UID:2749-1713951000-1713956400@www.sevillaemprendedora.org
SUMMARY:Trazabilidad blockchain en el sector agroalimentario
DESCRIPTION:La Asociación Secot ofrece gratis un webinario sobre trazabilidad blockchain en el sector agroalimentario. Objetivos: Trasladar el concepto básico de esta nueva tecnologia aplicada a la trazabilidad de los aceites de oliva con una comparación con otros sectores agroalimentarios (vino\, café. carne\, pescado\, pasta). Explicar cómo los consumidores o público pueden acceder a esta tecnología a través las herramientas del código QR o número de lote\, aplicaciones. Divulgar este novedoso sistema de trazabilidad agroalimentaria para concienciar a las personas a entender como la tecnologia blockchain nos puede ayudar a mejorar nuestra confianza en los productos alimentarios y en los procesos de compra (on line o en el real) fomentando una mejor calidad alimenticia y de salud. Estimular a profesionales en empresas públicas y privadas a considerar los beneficios de esta tecnologia en la defensa contras las fraudes y actividad de control e inspección de eficiencia en la cadena de valor del sector oleícola y agroalimentario. \nPonente: David de María Consolaro. Socio de Secot Jaén. Licenciatura en Ciencias Económicas y Empresariales por la Universidad de Verona. Especialista en Gestión Enoturística y Análisis Sensorial. Experto en Redes Sociales y Comercio Electrónico aplicado al sector oleícola. Experto en Transformación Digital y Big Data. Colaborador en el proyecto de investigación «Reputación on line de las empresas oleícolas». \nSecot es una asociación sin animo de lucro\, declarada de utilidad pública. Sus voluntarios son los Seniors\, profesionales\, directivos y empresarios que habiendo finalizado su actividad laboral o que encontrándose en activo  desean\, con espíritu altruista\, ofrecer su experiencia y conocimientos en gestión empresarial o académica a quienes lo necesitan.
URL:https://www.sevillaemprendedora.org/evento/trazabilidad-blockchain-en-el-sector-agroalimentario/
LOCATION:Online
CATEGORIES:Ecosistema Emprendedor,Webinar
ATTACH;FMTTYPE=image/jpeg:https://www.sevillaemprendedora.org/wp-content/uploads/2024/04/24-Abr.-Trazabilidad-blockchain-en-el-sector-agroalimentario.jpeg
END:VEVENT
END:VCALENDAR