BEGIN:VCALENDAR
VERSION:2.0
PRODID:-//Sevilla Emprendedora - ECPv6.15.18//NONSGML v1.0//EN
CALSCALE:GREGORIAN
METHOD:PUBLISH
X-WR-CALNAME:Sevilla Emprendedora
X-ORIGINAL-URL:https://www.sevillaemprendedora.org
X-WR-CALDESC:Eventos para Sevilla Emprendedora
REFRESH-INTERVAL;VALUE=DURATION:PT1H
X-Robots-Tag:noindex
X-PUBLISHED-TTL:PT1H
BEGIN:VTIMEZONE
TZID:Europe/Madrid
BEGIN:DAYLIGHT
TZOFFSETFROM:+0100
TZOFFSETTO:+0200
TZNAME:CEST
DTSTART:20230326T010000
END:DAYLIGHT
BEGIN:STANDARD
TZOFFSETFROM:+0200
TZOFFSETTO:+0100
TZNAME:CET
DTSTART:20231029T010000
END:STANDARD
BEGIN:DAYLIGHT
TZOFFSETFROM:+0100
TZOFFSETTO:+0200
TZNAME:CEST
DTSTART:20240331T010000
END:DAYLIGHT
BEGIN:STANDARD
TZOFFSETFROM:+0200
TZOFFSETTO:+0100
TZNAME:CET
DTSTART:20241027T010000
END:STANDARD
BEGIN:DAYLIGHT
TZOFFSETFROM:+0100
TZOFFSETTO:+0200
TZNAME:CEST
DTSTART:20250330T010000
END:DAYLIGHT
BEGIN:STANDARD
TZOFFSETFROM:+0200
TZOFFSETTO:+0100
TZNAME:CET
DTSTART:20251026T010000
END:STANDARD
END:VTIMEZONE
BEGIN:VEVENT
DTSTART;TZID=Europe/Madrid:20240508T093000
DTEND;TZID=Europe/Madrid:20240508T110000
DTSTAMP:20260420T001551
CREATED:20240426T065523Z
LAST-MODIFIED:20240426T065523Z
UID:3507-1715160600-1715166000@www.sevillaemprendedora.org
SUMMARY:Cultura organizacional y seguridad laboral
DESCRIPTION:Taller de formación online ofrecido por la Asociación Secot en colaboración con Andalucía Emprende. El objetivo es\, en este caso: El bienestar de los empleados requiere de la implementación de políticas y prácticas que fomenten el equilibrio entre las necesidades de la empresa y las de sus empleados. Dichas acciones han de resolver sobre el desempeño\, la solución de conflictos\, el desarrollo de competencias y las oportunidades de crecimiento. De estos y otros factores hablarán para incrementar la productividad y un ambiente de trabajo positivo y saludable. \nPonente: Adriana Linde Martín\, Socia de Secot Málaga. Psicóloga especialista en Psicología Clínica. Ha trabajado hasta su jubilación como formadora en el Servicio Andaluz de Salud y en el Instituto Andaluz de Administración Pública.
URL:https://www.sevillaemprendedora.org/evento/cultura-organizacional-y-seguridad-laboral/
LOCATION:Online
CATEGORIES:Ecosistema Emprendedor
ATTACH;FMTTYPE=image/jpeg:https://www.sevillaemprendedora.org/wp-content/uploads/2024/04/8-Mayo-Cultura-organizacional-y-satisfaccion-laboral-1.jpeg
END:VEVENT
END:VCALENDAR