BEGIN:VCALENDAR
VERSION:2.0
PRODID:-//Sevilla Emprendedora - ECPv6.15.18//NONSGML v1.0//EN
CALSCALE:GREGORIAN
METHOD:PUBLISH
X-WR-CALNAME:Sevilla Emprendedora
X-ORIGINAL-URL:https://www.sevillaemprendedora.org
X-WR-CALDESC:Eventos para Sevilla Emprendedora
REFRESH-INTERVAL;VALUE=DURATION:PT1H
X-Robots-Tag:noindex
X-PUBLISHED-TTL:PT1H
BEGIN:VTIMEZONE
TZID:Europe/Madrid
BEGIN:DAYLIGHT
TZOFFSETFROM:+0100
TZOFFSETTO:+0200
TZNAME:CEST
DTSTART:20230326T010000
END:DAYLIGHT
BEGIN:STANDARD
TZOFFSETFROM:+0200
TZOFFSETTO:+0100
TZNAME:CET
DTSTART:20231029T010000
END:STANDARD
BEGIN:DAYLIGHT
TZOFFSETFROM:+0100
TZOFFSETTO:+0200
TZNAME:CEST
DTSTART:20240331T010000
END:DAYLIGHT
BEGIN:STANDARD
TZOFFSETFROM:+0200
TZOFFSETTO:+0100
TZNAME:CET
DTSTART:20241027T010000
END:STANDARD
BEGIN:DAYLIGHT
TZOFFSETFROM:+0100
TZOFFSETTO:+0200
TZNAME:CEST
DTSTART:20250330T010000
END:DAYLIGHT
BEGIN:STANDARD
TZOFFSETFROM:+0200
TZOFFSETTO:+0100
TZNAME:CET
DTSTART:20251026T010000
END:STANDARD
END:VTIMEZONE
BEGIN:VEVENT
DTSTART;TZID=Europe/Madrid:20240410T180000
DTEND;TZID=Europe/Madrid:20240410T210000
DTSTAMP:20260420T113505
CREATED:20240403T054506Z
LAST-MODIFIED:20240403T054506Z
UID:2913-1712772000-1712782800@www.sevillaemprendedora.org
SUMMARY:Startup Talks con Wuolah
DESCRIPTION:En esta nueva edición de las Startup Talks\, Enrique Ruiz\, Co-Ceo de la startup Wuolah\, inspirará con su caso de éxito sobre cómo desde Sevilla han logrado revolucionar la forma en que los universitarios toman apuntes\, convirtiendo su plataforma en un elemento esencial para el éxito académico. \nEnrique Ruiz compartirá los detalles de cómo gestó la idea\, superó obstáculos y materializó su visión en Wuolah\, una exitosa plataforma de apuntes para universitarios. Fundada en 2015 por cuatro estudiantes de Sevilla\, Wuolah no solo ha facilitado el acceso a material de estudio\, sino que también ha proporcionado una plataforma para que los estudiantes compartan sus conocimientos y obtengan beneficios económicos\, redefiniendo así la experiencia universitaria. \nA continuación\, tendrá lugar un networking con aperitivo\, abierto a emprendedores y profesionales \n 
URL:https://www.sevillaemprendedora.org/evento/startup-talks-con-wuolah/
LOCATION:La Fábrica de Sevilla\, Paseo Alcalde Marqués del Contadero\, Sevilla\, Sevilla\, 41001\, España
CATEGORIES:Ecosistema Emprendedor
ATTACH;FMTTYPE=image/png:https://www.sevillaemprendedora.org/wp-content/uploads/2024/04/10-Abril.-Startup-Talks-con-Wuolah.png
END:VEVENT
END:VCALENDAR